BEGIN:VCALENDAR
VERSION:2.0
PRODID:gruene-reinickendorf.de
METHOD:PUBLISH
BEGIN:VTIMEZONE
TZID:Europe/Berlin
X-LIC-LOCATION:Europe/Berlin
BEGIN:DAYLIGHT
TZOFFSETFROM:+0100
TZOFFSETTO:+0200
TZNAME:CEST
DTSTART:19700329T020000
RRULE:FREQ=YEARLY;INTERVAL=1;BYDAY=-1SU;BYMONTH=3
END:DAYLIGHT
BEGIN:STANDARD
TZOFFSETFROM:+0200
TZOFFSETTO:+0100
TZNAME:CET
DTSTART:19701025T030000
RRULE:FREQ=YEARLY;INTERVAL=1;BYDAY=-1SU;BYMONTH=10
END:STANDARD
END:VTIMEZONE
BEGIN:VEVENT
UID:da6594530f21bf6666fadde1c4b2d73c@gruene-reinickendorf.de
URL;VALUE=URI:https://gruene-reinickendorf.de/termine/ag-diversitaet-ag-d
 emokratie-9/
LOCATION:
SUMMARY:AG Diversität & AG Demokratie
DESCRIPTION;ALTREP="data:text/html,%3Cp%3EDu%20fragst%20dich%2C%20wozu%20
 es%20n%C3%B6tig%20ist%2C%20%C3%BCber%20Vielfalt%20in%20Reinickendorf%20zu
 %20sprechen%3F%20Hast%20du%20eine%20ganz%20konkrete%20Vorstellung%20von%2
 0bzw.%20eine%20klare%20Meinung%20zu%20Diversit%C3%A4t%3F%20Ist%20dir%20Ch
 ancengleichheit%20und%20gerechte%20Teilhabe%20wichtig%3F%20Oder%20brennt%
 20dir%20ein%20nicht%20erw%C3%A4hntes%20Anliegen%20unter%20den%20N%C3%A4ge
 ln%3F%3Cbr%20%2F%3E%0AAuch%20und%20gerade%20wenn%20du%20alle%20Fragen%20m
 it%20Nein%20beantwortest%2C%20bist%20du%20herzlich%20eingeladen%20zur%20A
 G%20Diversity.%20Wir%20Aktive%20freuen%20uns%20auf%20einen%20diversen%20A
 ustausch%21%20In%202024%20treffen%20wir%20uns%20an%20jedem%20vierten%20Do
 nnerstag%20im%20Monat.%20Kontaktiere%20uns%20gerne%20unter%20diversity%40
 gruene-reinickendorf.de.%3C%2Fp%3E":Du fragst dich\, wozu es nötig ist\,
  über Vielfalt in Reinickendorf zu sprechen? Hast du eine ganz konkrete 
 Vorstellung von bzw. eine klare Meinung zu Diversität? Ist dir Chancengl
 eichheit und gerechte Teilhabe wichtig? Oder brennt dir ein nicht erwähn
 tes Anliegen unter den Nägeln?\n\nAuch und gerade wenn du alle Fragen mi
 t Nein beantwortest\, bist du herzlich eingeladen zur AG Diversity. Wir A
 ktive freuen uns auf einen diversen Austausch! In 2024 treffen wir uns an
  jedem vierten Donnerstag im Monat. Kontaktiere uns gerne unter diversity
 @gruene-reinickendorf.de.
CLASS:PUBLIC
DTSTART;TZID=Europe/Berlin:20260423T183000
DTEND;TZID=Europe/Berlin:20260423T200000
DTSTAMP:20260423T142053
END:VEVENT
END:VCALENDAR