BEGIN:VCALENDAR
VERSION:2.0
PRODID:gruene-reinickendorf.de
METHOD:PUBLISH
BEGIN:VTIMEZONE
TZID:Europe/Berlin
X-LIC-LOCATION:Europe/Berlin
BEGIN:DAYLIGHT
TZOFFSETFROM:+0100
TZOFFSETTO:+0200
TZNAME:CEST
DTSTART:19700329T020000
RRULE:FREQ=YEARLY;INTERVAL=1;BYDAY=-1SU;BYMONTH=3
END:DAYLIGHT
BEGIN:STANDARD
TZOFFSETFROM:+0200
TZOFFSETTO:+0100
TZNAME:CET
DTSTART:19701025T030000
RRULE:FREQ=YEARLY;INTERVAL=1;BYDAY=-1SU;BYMONTH=10
END:STANDARD
END:VTIMEZONE
BEGIN:VEVENT
UID:57d1e56e81f56d73d7bde84674ea4c8a@gruene-reinickendorf.de
URL;VALUE=URI:https://gruene-reinickendorf.de/termine/bezirksverordnetenv
 ersammlung/
LOCATION:
SUMMARY:Bezirksverordnetenversammlung
DESCRIPTION;ALTREP="data:text/html,%0A%3Cp%3EDie%20Bezirksverordnetenvers
 ammlung%20%28BVV%29%20ist%20die%20direkt%20gew%C3%A4hlte%20Vertretung%20a
 uf%20Bezirksebene%20in%20Berlin.%20Laut%20der%20Berliner%20Verfassung%20i
 st%20sie%20jedoch%20kein%20echtes%20parlamentarisches%20Gremium%2C%20sond
 ern%20ein%20%E2%80%9EOrgan%20der%20bezirklichen%20Selbstverwaltung%E2%80%
 9C.%20Die%20BVV%20Reinickendorf%20ist%20also%20so%20etwas%20%C3%84hnliche
 s%20wie%20das%20Bezirksparlament%20von%20Reinickendorf.%3C%2Fp%3E%0A":Die
  Bezirksverordnetenversammlung (BVV) ist die direkt gewählte Vertretung 
 auf Bezirksebene in Berlin. Laut der Berliner Verfassung ist sie jedoch k
 ein echtes parlamentarisches Gremium\, sondern ein „Organ der bezirklic
 hen Selbstverwaltung“. Die BVV Reinickendorf ist also so etwas Ähnlich
 es wie das Bezirksparlament von Reinickendorf.
CLASS:PUBLIC
DTSTART;TZID=Europe/Berlin:20240313T170000
DTEND;TZID=Europe/Berlin:20240313T180000
DTSTAMP:20260419T135843
END:VEVENT
END:VCALENDAR