BEGIN:VCALENDAR
VERSION:2.0
PRODID:gruene-reinickendorf.de
METHOD:PUBLISH
BEGIN:VTIMEZONE
TZID:Europe/Berlin
X-LIC-LOCATION:Europe/Berlin
BEGIN:DAYLIGHT
TZOFFSETFROM:+0100
TZOFFSETTO:+0200
TZNAME:CEST
DTSTART:19700329T020000
RRULE:FREQ=YEARLY;INTERVAL=1;BYDAY=-1SU;BYMONTH=3
END:DAYLIGHT
BEGIN:STANDARD
TZOFFSETFROM:+0200
TZOFFSETTO:+0100
TZNAME:CET
DTSTART:19701025T030000
RRULE:FREQ=YEARLY;INTERVAL=1;BYDAY=-1SU;BYMONTH=10
END:STANDARD
END:VTIMEZONE
BEGIN:VEVENT
UID:83b40b6b98bf6e24737edfb69cb3c456@gruene-reinickendorf.de
URL;VALUE=URI:https://gruene-reinickendorf.de/termine/fraktionssitzung-6/
LOCATION:Fraktionsbüro, Rathaus Reinickendorf Raum 16/18, Eichborndamm 2
 15, 13437 Berlin
SUMMARY:Fraktionssitzung
DESCRIPTION;ALTREP="data:text/html,%3Cp%3EAntragsvorbereitung%3C%2Fp%3E":
 Antragsvorbereitung
CLASS:PUBLIC
DTSTART;TZID=Europe/Berlin:20260427T180000
DTEND;TZID=Europe/Berlin:20260427T203000
DTSTAMP:20260423T141932
END:VEVENT
END:VCALENDAR