BEGIN:VCALENDAR
VERSION:2.0
PRODID:gruene-reinickendorf.de
METHOD:PUBLISH
BEGIN:VTIMEZONE
TZID:Europe/Berlin
X-LIC-LOCATION:Europe/Berlin
BEGIN:DAYLIGHT
TZOFFSETFROM:+0100
TZOFFSETTO:+0200
TZNAME:CEST
DTSTART:19700329T020000
RRULE:FREQ=YEARLY;INTERVAL=1;BYDAY=-1SU;BYMONTH=3
END:DAYLIGHT
BEGIN:STANDARD
TZOFFSETFROM:+0200
TZOFFSETTO:+0100
TZNAME:CET
DTSTART:19701025T030000
RRULE:FREQ=YEARLY;INTERVAL=1;BYDAY=-1SU;BYMONTH=10
END:STANDARD
END:VTIMEZONE
BEGIN:VEVENT
UID:f24ede48667f9893898f422b3f2c71f8@gruene-reinickendorf.de
URL;VALUE=URI:https://gruene-reinickendorf.de/termine/kreismitgliedervers
 ammlung-kmv/
LOCATION:Grüner Fuchs und Online
SUMMARY:Fortsetzung JHV
DESCRIPTION;ALTREP="data:text/html,%3Cp%3EZusatztermin%20zur%20Jahreshaup
 tversammlung%20%3Cbr%20%2F%3E%0A%3Cbr%20%2F%3E%0AWir%20schlagen%20euch%20
 die%20folgende%20Tagesordnung%20%28TO%29%20vor%3A%3Cbr%20%2F%3E%0A%3Cbr%2
 0%2F%3E%0A1%29%20Begr%C3%BC%C3%9Fung%20und%20Formalia%3Cbr%20%2F%3E%0A2%2
 9%20Berichte%20der%20Delegationen%20%3Cbr%20%2F%3E%0A3%29%20Wahl%20der%20
 Landesausschuss%20%28LA%29-%2C%20Kleiko-%20und%20Flinta%2A-Delegierten%3C
 br%20%2F%3E%0A4%29%20Wahl%20der%20Di%C3%A4tenkommission%20%3Cbr%20%2F%3E%
 0A5%29%20Sonstiges%3Cbr%20%2F%3E%0A%3Cbr%20%2F%3E%0A%3Cbr%20%2F%3E%0A%3C%
 2Fp%3E":Zusatztermin zur Jahreshauptversammlung\n\nWir schlagen euch die 
 folgende Tagesordnung (TO) vor:\n\n1) Begrüßung und Formalia\n\n2) Beri
 chte der Delegationen\n\n3) Wahl der Landesausschuss (LA)-\, Kleiko- und 
 Flinta*-Delegierten\n\n4) Wahl der Diätenkommission\n\n5) Sonstiges
CLASS:PUBLIC
DTSTART;TZID=Europe/Berlin:20260428T190000
DTEND;TZID=Europe/Berlin:20260428T210000
DTSTAMP:20260424T140935
END:VEVENT
END:VCALENDAR